BEGIN:VCALENDAR
VERSION:2.0
PRODID:-//ChamberMaster//Event Calendar 2.0//EN
METHOD:PUBLISH
X-PUBLISHED-TTL:P1H
REFRESH-INTERVAL:P1H
CALSCALE:GREGORIAN
BEGIN:VTIMEZONE
TZID:America/New_York
BEGIN:DAYLIGHT
RRULE:FREQ=YEARLY;BYMONTH=3;BYDAY=2SU
DTSTART:20070101T000000
TZOFFSETFROM:-0500
TZOFFSETTO:-0400
TZNAME:Eastern Daylight Time
END:DAYLIGHT
BEGIN:STANDARD
RRULE:FREQ=YEARLY;BYMONTH=11;BYDAY=1SU
DTSTART:20070101T000000
TZOFFSETFROM:-0400
TZOFFSETTO:-0500
TZNAME:Eastern Standard Time
END:STANDARD
END:VTIMEZONE
BEGIN:VEVENT
DTSTART;TZID=America/New_York:20260527T100000
DTEND;TZID=America/New_York:20260527T110000
X-MICROSOFT-CDO-ALLDAYEVENT:FALSE
SUMMARY:Zoom - RPR's CMA Secrets Unlocked - Includes 1-Hour Elective CE Credit
DESCRIPTION:Realtors Property Resource  (RPR ) is the nation's largest property database\, built exclusively for REALTORS . When it comes to pricing a property\, your clients rely on you to guide the conversation with confidence and expertise. Creating an accurate Comparative Market Analysis (CMA) requires a thoughtful understanding of the many factors that influence property value. Whether working with buyers or sellers\, a well-prepared CMA helps both you and your clients evaluate key market dynamics and determine realistic price expectations. In this class\, we'll walk you through the step-by-step process of using RPR to create a professional\, data-driven report equipping your clients with the insights they need to make informed decisions.
X-ALT-DESC;FMTTYPE=text/html:<!DOCTYPE html><html><head><title></title></head><body aria-disabled="false"><p>Realtors Property Resource&reg\; (RPR&reg\;) is the nation&rsquo\;s largest property database\, built exclusively for REALTORS&reg\;.&nbsp\;</p><p>When it comes to pricing a property\, your clients rely on you to guide the conversation with confidence and expertise. Creating an accurate Comparative Market Analysis (CMA) requires a thoughtful understanding of the many factors that influence property value.&nbsp\;</p><p>Whether working with buyers or sellers\, a well-prepared CMA helps both you and your clients evaluate key market dynamics and determine realistic price expectations.&nbsp\;</p><p>In this class\, we&rsquo\;ll walk you through the step-by-step process of using RPR to create a professional\, data-driven report&mdash\;equipping your clients with the insights they need to make informed decisions.</p></body></html>
LOCATION:
UID:e.2941.1449484
SEQUENCE:3
DTSTAMP:20260423T202944Z
URL:https://members.sebrealtors.com/calendar/Details/zoom-rpr-s-cma-secrets-unlocked-includes-1-hour-elective-ce-credit-1716938?sourceTypeId=Hub
END:VEVENT
END:VCALENDAR
